BEGIN:VCALENDAR
VERSION:2.0
PRODID:-//Milton Family Community Center - ECPv6.7.0//NONSGML v1.0//EN
CALSCALE:GREGORIAN
METHOD:PUBLISH
X-WR-CALNAME:Milton Family Community Center
X-ORIGINAL-URL:https://miltonfamilycenter.org
X-WR-CALDESC:Events for Milton Family Community Center
REFRESH-INTERVAL;VALUE=DURATION:PT1H
X-Robots-Tag:noindex
X-PUBLISHED-TTL:PT1H
BEGIN:VTIMEZONE
TZID:America/New_York
BEGIN:DAYLIGHT
TZOFFSETFROM:-0500
TZOFFSETTO:-0400
TZNAME:EDT
DTSTART:20250309T070000
END:DAYLIGHT
BEGIN:STANDARD
TZOFFSETFROM:-0400
TZOFFSETTO:-0500
TZNAME:EST
DTSTART:20251102T060000
END:STANDARD
END:VTIMEZONE
BEGIN:VEVENT
DTSTART;TZID=America/New_York:20250804T100000
DTEND;TZID=America/New_York:20250804T113000
DTSTAMP:20260422T042812
CREATED:20250417T120035Z
LAST-MODIFIED:20250417T120708Z
UID:2783-1754301600-1754307000@miltonfamilycenter.org
SUMMARY:Playgroup Outside at MFCC
DESCRIPTION:
URL:https://miltonfamilycenter.org/event/playgroup-outside-at-mfcc-14/
CATEGORIES:Childcare
END:VEVENT
BEGIN:VEVENT
DTSTART;TZID=America/New_York:20250805T160000
DTEND;TZID=America/New_York:20250805T200000
DTSTAMP:20260422T042812
CREATED:20250417T124801Z
LAST-MODIFIED:20250417T124802Z
UID:2805-1754409600-1754424000@miltonfamilycenter.org
SUMMARY:Milton Farmers Market
DESCRIPTION:
URL:https://miltonfamilycenter.org/event/milton-farmers-market-20/
LOCATION:Bombardier Park West\, 20 Park Pl\, Milton\, VT\, 05468\, United States
END:VEVENT
BEGIN:VEVENT
DTSTART;TZID=America/New_York:20250805T173000
DTEND;TZID=America/New_York:20250805T200000
DTSTAMP:20260422T042812
CREATED:20250417T121844Z
LAST-MODIFIED:20250417T121846Z
UID:2793-1754415000-1754424000@miltonfamilycenter.org
SUMMARY:National Night Out 2025
DESCRIPTION:Join the Milton Police Department\, Milton PTA\, Town of Milton and the Milton Recreation Department for a night of fun celenrating Police and community partnership. Click on the link to learn more.
URL:https://miltonfamilycenter.org/event/national-night-out-2025/
LOCATION:Bombardier Park West\, 20 Park Pl\, Milton\, VT\, 05468\, United States
END:VEVENT
BEGIN:VEVENT
DTSTART;TZID=America/New_York:20250807T100000
DTEND;TZID=America/New_York:20250807T113000
DTSTAMP:20260422T042812
CREATED:20250417T120105Z
LAST-MODIFIED:20250417T120708Z
UID:2784-1754560800-1754566200@miltonfamilycenter.org
SUMMARY:Playgroup Outside at MFCC
DESCRIPTION:
URL:https://miltonfamilycenter.org/event/playgroup-outside-at-mfcc-15/
CATEGORIES:Childcare
END:VEVENT
BEGIN:VEVENT
DTSTART;TZID=America/New_York:20250811T100000
DTEND;TZID=America/New_York:20250811T113000
DTSTAMP:20260422T042812
CREATED:20250417T120136Z
LAST-MODIFIED:20250417T120708Z
UID:2785-1754906400-1754911800@miltonfamilycenter.org
SUMMARY:Playgroup Outside at MFCC
DESCRIPTION:
URL:https://miltonfamilycenter.org/event/playgroup-outside-at-mfcc-16/
CATEGORIES:Childcare
END:VEVENT
BEGIN:VEVENT
DTSTART;TZID=America/New_York:20250812T160000
DTEND;TZID=America/New_York:20250812T200000
DTSTAMP:20260422T042812
CREATED:20250417T124832Z
LAST-MODIFIED:20250417T124833Z
UID:2806-1755014400-1755028800@miltonfamilycenter.org
SUMMARY:Milton Farmers Market
DESCRIPTION:
URL:https://miltonfamilycenter.org/event/milton-farmers-market-21/
LOCATION:Bombardier Park West\, 20 Park Pl\, Milton\, VT\, 05468\, United States
END:VEVENT
BEGIN:VEVENT
DTSTART;TZID=America/New_York:20250814T100000
DTEND;TZID=America/New_York:20250814T113000
DTSTAMP:20260422T042812
CREATED:20250417T120206Z
LAST-MODIFIED:20250417T120708Z
UID:2786-1755165600-1755171000@miltonfamilycenter.org
SUMMARY:Playgroup Outside at MFCC
DESCRIPTION:
URL:https://miltonfamilycenter.org/event/playgroup-outside-at-mfcc-17/
CATEGORIES:Childcare
END:VEVENT
BEGIN:VEVENT
DTSTART;TZID=America/New_York:20250818T100000
DTEND;TZID=America/New_York:20250818T113000
DTSTAMP:20260422T042812
CREATED:20250417T120231Z
LAST-MODIFIED:20250417T120708Z
UID:2787-1755511200-1755516600@miltonfamilycenter.org
SUMMARY:Playgroup Outside at MFCC
DESCRIPTION:
URL:https://miltonfamilycenter.org/event/playgroup-outside-at-mfcc-18/
CATEGORIES:Childcare
END:VEVENT
BEGIN:VEVENT
DTSTART;TZID=America/New_York:20250819T160000
DTEND;TZID=America/New_York:20250819T200000
DTSTAMP:20260422T042812
CREATED:20250505T115854Z
LAST-MODIFIED:20250505T120332Z
UID:2817-1755619200-1755633600@miltonfamilycenter.org
SUMMARY:Milton Farmers Market
DESCRIPTION:
URL:https://miltonfamilycenter.org/event/milton-farmers-market-22/
LOCATION:Bombardier Park West\, 20 Park Pl\, Milton\, VT\, 05468\, United States
END:VEVENT
BEGIN:VEVENT
DTSTART;TZID=America/New_York:20250821T000000
DTEND;TZID=America/New_York:20250821T235959
DTSTAMP:20260422T042812
CREATED:20250417T120309Z
LAST-MODIFIED:20250819T113719Z
UID:2788-1755734400-1755820799@miltonfamilycenter.org
SUMMARY:No Playgroup Today
DESCRIPTION:
URL:https://miltonfamilycenter.org/event/playgroup-outside-at-mfcc-19/
CATEGORIES:Childcare
END:VEVENT
BEGIN:VEVENT
DTSTART;TZID=America/New_York:20250825T100000
DTEND;TZID=America/New_York:20250825T113000
DTSTAMP:20260422T042812
CREATED:20250417T120401Z
LAST-MODIFIED:20250417T120708Z
UID:2789-1756116000-1756121400@miltonfamilycenter.org
SUMMARY:Playgroup Outside at MFCC
DESCRIPTION:
URL:https://miltonfamilycenter.org/event/playgroup-outside-at-mfcc-20/
CATEGORIES:Childcare
END:VEVENT
BEGIN:VEVENT
DTSTART;TZID=America/New_York:20250826T160000
DTEND;TZID=America/New_York:20250826T200000
DTSTAMP:20260422T042812
CREATED:20250417T124924Z
LAST-MODIFIED:20250505T115702Z
UID:2807-1756224000-1756238400@miltonfamilycenter.org
SUMMARY:Milton Farmers Market-Last one of 2025
DESCRIPTION:
URL:https://miltonfamilycenter.org/event/milton-farmers-market-last-one-of-2025/
LOCATION:Bombardier Park West\, 20 Park Pl\, Milton\, VT\, 05468\, United States
END:VEVENT
BEGIN:VEVENT
DTSTART;TZID=America/New_York:20250828T100000
DTEND;TZID=America/New_York:20250828T113000
DTSTAMP:20260422T042812
CREATED:20250417T120452Z
LAST-MODIFIED:20250417T120708Z
UID:2790-1756375200-1756380600@miltonfamilycenter.org
SUMMARY:Playgroup Outside at MFCC
DESCRIPTION:Last Playgroup at MFCC until the summer.
URL:https://miltonfamilycenter.org/event/playgroup-outside-at-mfcc-21/
CATEGORIES:Childcare
END:VEVENT
END:VCALENDAR