BEGIN:VCALENDAR
VERSION:2.0
PRODID:-//Milton Family Community Center - ECPv6.7.0//NONSGML v1.0//EN
CALSCALE:GREGORIAN
METHOD:PUBLISH
X-ORIGINAL-URL:https://miltonfamilycenter.org
X-WR-CALDESC:Events for Milton Family Community Center
REFRESH-INTERVAL;VALUE=DURATION:PT1H
X-Robots-Tag:noindex
X-PUBLISHED-TTL:PT1H
BEGIN:VTIMEZONE
TZID:America/New_York
BEGIN:DAYLIGHT
TZOFFSETFROM:-0500
TZOFFSETTO:-0400
TZNAME:EDT
DTSTART:20250309T070000
END:DAYLIGHT
BEGIN:STANDARD
TZOFFSETFROM:-0400
TZOFFSETTO:-0500
TZNAME:EST
DTSTART:20251102T060000
END:STANDARD
END:VTIMEZONE
BEGIN:VEVENT
DTSTART;TZID=America/New_York:20251103T080000
DTEND;TZID=America/New_York:20251201T170000
DTSTAMP:20260420T071808
CREATED:20250915T142909Z
LAST-MODIFIED:20250915T142910Z
UID:2919-1762156800-1764608400@miltonfamilycenter.org
SUMMARY:Holiday Helper Sign Up
DESCRIPTION:
URL:https://miltonfamilycenter.org/event/holiday-helper-sign-up/
END:VEVENT
END:VCALENDAR