BEGIN:VCALENDAR
VERSION:2.0
PRODID:-//Milton Family Community Center - ECPv6.7.0//NONSGML v1.0//EN
CALSCALE:GREGORIAN
METHOD:PUBLISH
X-WR-CALNAME:Milton Family Community Center
X-ORIGINAL-URL:https://miltonfamilycenter.org
X-WR-CALDESC:Events for Milton Family Community Center
REFRESH-INTERVAL;VALUE=DURATION:PT1H
X-Robots-Tag:noindex
X-PUBLISHED-TTL:PT1H
BEGIN:VTIMEZONE
TZID:America/New_York
BEGIN:DAYLIGHT
TZOFFSETFROM:-0500
TZOFFSETTO:-0400
TZNAME:EDT
DTSTART:20250309T070000
END:DAYLIGHT
BEGIN:STANDARD
TZOFFSETFROM:-0400
TZOFFSETTO:-0500
TZNAME:EST
DTSTART:20251102T060000
END:STANDARD
END:VTIMEZONE
BEGIN:VEVENT
DTSTART;TZID=America/New_York:20250915T080000
DTEND;TZID=America/New_York:20251024T170000
DTSTAMP:20260421T052424
CREATED:20250915T141959Z
LAST-MODIFIED:20250915T142001Z
UID:2913-1757923200-1761325200@miltonfamilycenter.org
SUMMARY:Coat Collection
DESCRIPTION:We are collecting clean\, gently-used winter coats for those who need one. Please drop off coat donations anytime at any of these locations: \n\n\n\n\nMilton Family Community Center\n\n\n\nCornerstone Community Church\n\n\n\nNew Life Christian Church\n\n\n\nMilton Public Library\n\n\n\n\nThank you for the support!
URL:https://miltonfamilycenter.org/event/coat-collection/
END:VEVENT
BEGIN:VEVENT
DTSTART;TZID=America/New_York:20251020T080000
DTEND;TZID=America/New_York:20251114T170000
DTSTAMP:20260421T052424
CREATED:20250915T141500Z
LAST-MODIFIED:20250915T141502Z
UID:2912-1760947200-1763139600@miltonfamilycenter.org
SUMMARY:Thanksgiving Package Sign Up
DESCRIPTION:
URL:https://miltonfamilycenter.org/event/thanksgiving-package-sign-up/
END:VEVENT
BEGIN:VEVENT
DTSTART;TZID=America/New_York:20251023T000000
DTEND;TZID=America/New_York:20251024T235959
DTSTAMP:20260421T052424
CREATED:20250915T131602Z
LAST-MODIFIED:20250915T141128Z
UID:2893-1761177600-1761350399@miltonfamilycenter.org
SUMMARY:MASK Closed
DESCRIPTION:
URL:https://miltonfamilycenter.org/event/mask-is-closed-today-2/
END:VEVENT
BEGIN:VEVENT
DTSTART;TZID=America/New_York:20251024T160000
DTEND;TZID=America/New_York:20251024T193000
DTSTAMP:20260421T052424
CREATED:20250915T142123Z
LAST-MODIFIED:20250915T142124Z
UID:2914-1761321600-1761334200@miltonfamilycenter.org
SUMMARY:Coat Give-Away
DESCRIPTION:
URL:https://miltonfamilycenter.org/event/coat-give-away-3/
LOCATION:Cornerstone Community Church\, Milton VT\, 26 Bombardier Rd\, Milton\, Milton\, Vermont\, 05468\, United States
END:VEVENT
BEGIN:VEVENT
DTSTART;TZID=America/New_York:20251024T173000
DTEND;TZID=America/New_York:20251024T193000
DTSTAMP:20260421T052424
CREATED:20250915T142420Z
LAST-MODIFIED:20250915T142708Z
UID:2916-1761327000-1761334200@miltonfamilycenter.org
SUMMARY:Truck-or-treat (Town of Milton Event)
DESCRIPTION:
URL:https://miltonfamilycenter.org/event/truck-or-treat-town-of-milton-event/
LOCATION:Bombardier Park West\, 20 Park Pl\, Milton\, VT\, 05468\, United States
END:VEVENT
END:VCALENDAR