BEGIN:VCALENDAR
VERSION:2.0
PRODID:-//Milton Family Community Center - ECPv6.7.0//NONSGML v1.0//EN
CALSCALE:GREGORIAN
METHOD:PUBLISH
X-ORIGINAL-URL:https://miltonfamilycenter.org
X-WR-CALDESC:Events for Milton Family Community Center
REFRESH-INTERVAL;VALUE=DURATION:PT1H
X-Robots-Tag:noindex
X-PUBLISHED-TTL:PT1H
BEGIN:VTIMEZONE
TZID:America/New_York
BEGIN:DAYLIGHT
TZOFFSETFROM:-0500
TZOFFSETTO:-0400
TZNAME:EDT
DTSTART:20250309T070000
END:DAYLIGHT
BEGIN:STANDARD
TZOFFSETFROM:-0400
TZOFFSETTO:-0500
TZNAME:EST
DTSTART:20251102T060000
END:STANDARD
END:VTIMEZONE
BEGIN:VEVENT
DTSTART;TZID=America/New_York:20250513T173000
DTEND;TZID=America/New_York:20250513T190000
DTSTAMP:20260422T042851
CREATED:20250417T123001Z
LAST-MODIFIED:20250417T123108Z
UID:2795-1747157400-1747162800@miltonfamilycenter.org
SUMMARY:Community Meal & Forum: Budgeting & Money Management with M&T Bank
DESCRIPTION:Enjoy a FREE community meal at MFCC plus learn about tips and healthy habits for budgeting from local bankers at Milton’s M&T Bank! \n\n\n\nNo cost to attend\, but we are accepting non-perishable food donations at the door to support the Food Shelf. \n\n\n\nThis is a family-friendly event for any and all community members. Come one\, come all! \n\n\n\nOn the Menu: Shepherd’s Pie\, Salad & Dessert
URL:https://miltonfamilycenter.org/event/community-meal-forum-budgeting-money-management-with-mt-bank/
END:VEVENT
END:VCALENDAR